BEGIN:VCALENDAR
VERSION:2.0
PRODID:-//www.lotzwil.ch//NONSGML kigkonsult.se iCalcreator 2.22//
CALSCALE:GREGORIAN
METHOD:PUBLISH
X-WR-TIMEZONE:Europe/Berlin
BEGIN:VEVENT
UID:20260421T133832CEST-1755O1Bnpj@www.lotzwil.ch
DTSTAMP:20260421T113832Z
DESCRIPTION:Klicken Sie auf den folgenden Link\, um weitere Informationen z
 ur Veranstaltung zu erhalten:\nhttp://www.lotzwil.ch/de/veranstaltungen/de
 tail/detail.php?i=58
DTSTART:20260424T180000
DTEND:20260425T235900
LOCATION:Mehrzweckhalle Dorf
SUMMARY:Jodlerkonzert
END:VEVENT
END:VCALENDAR
