BEGIN:VCALENDAR
VERSION:2.0
PRODID:-//www.lotzwil.ch//NONSGML kigkonsult.se iCalcreator 2.22//
CALSCALE:GREGORIAN
METHOD:PUBLISH
X-WR-TIMEZONE:Europe/Berlin
BEGIN:VEVENT
UID:20260421T150804CEST-5008cTMhCB@www.lotzwil.ch
DTSTAMP:20260421T130804Z
DESCRIPTION:Klicken Sie auf den folgenden Link\, um weitere Informationen z
 ur Veranstaltung zu erhalten:\nhttp://www.lotzwil.ch/de/veranstaltungen/de
 tail/detail.php?i=53
DTSTART:20260912T090000
DTEND:20260911T160000
LOCATION:Hans Greub AG\, Thomi + Co AG\, WMC Sinterstar AG
SUMMARY:Treffpunkt Werk
END:VEVENT
END:VCALENDAR
